BEGIN:VCALENDAR
VERSION:2.0
PRODID:-//Wapigoo - ECPv6.15.18//NONSGML v1.0//EN
CALSCALE:GREGORIAN
METHOD:PUBLISH
X-WR-CALNAME:Wapigoo
X-ORIGINAL-URL:https://wapigoo.com
X-WR-CALDESC:Events for Wapigoo
REFRESH-INTERVAL;VALUE=DURATION:PT1H
X-Robots-Tag:noindex
X-PUBLISHED-TTL:PT1H
BEGIN:VTIMEZONE
TZID:Europe/Paris
BEGIN:DAYLIGHT
TZOFFSETFROM:+0100
TZOFFSETTO:+0200
TZNAME:CEST
DTSTART:20250330T010000
END:DAYLIGHT
BEGIN:STANDARD
TZOFFSETFROM:+0200
TZOFFSETTO:+0100
TZNAME:CET
DTSTART:20251026T010000
END:STANDARD
BEGIN:DAYLIGHT
TZOFFSETFROM:+0100
TZOFFSETTO:+0200
TZNAME:CEST
DTSTART:20260329T010000
END:DAYLIGHT
BEGIN:STANDARD
TZOFFSETFROM:+0200
TZOFFSETTO:+0100
TZNAME:CET
DTSTART:20261025T010000
END:STANDARD
BEGIN:DAYLIGHT
TZOFFSETFROM:+0100
TZOFFSETTO:+0200
TZNAME:CEST
DTSTART:20270328T010000
END:DAYLIGHT
BEGIN:STANDARD
TZOFFSETFROM:+0200
TZOFFSETTO:+0100
TZNAME:CET
DTSTART:20271031T010000
END:STANDARD
END:VTIMEZONE
BEGIN:VEVENT
DTSTART;TZID=Europe/Paris:20260422T000000
DTEND;TZID=Europe/Paris:20260422T235959
DTSTAMP:20260422T114652
CREATED:20250917T124122Z
LAST-MODIFIED:20250917T124122Z
UID:10000298-1776816000-1776902399@wapigoo.com
SUMMARY:Les curateurs d'évent
DESCRIPTION:Pas grand chose à dire .
URL:https://wapigoo.com/event/les-curateurs-devent/2026-04-22/
ATTACH;FMTTYPE=image/png:https://wapigoo.com/wp-content/uploads/2025/09/Joomeo-nrpictures-lbv-Space-Civil-4.png
LOCATION:
END:VEVENT
BEGIN:VEVENT
DTSTART;TZID=Europe/Paris:20260429T000000
DTEND;TZID=Europe/Paris:20260429T235959
DTSTAMP:20260422T114652
CREATED:20250917T124122Z
LAST-MODIFIED:20250917T124122Z
UID:10000299-1777420800-1777507199@wapigoo.com
SUMMARY:Les curateurs d'évent
DESCRIPTION:Pas grand chose à dire .
URL:https://wapigoo.com/event/les-curateurs-devent/2026-04-29/
ATTACH;FMTTYPE=image/png:https://wapigoo.com/wp-content/uploads/2025/09/Joomeo-nrpictures-lbv-Space-Civil-4.png
LOCATION:
END:VEVENT
BEGIN:VEVENT
DTSTART;TZID=Europe/Paris:20260506T000000
DTEND;TZID=Europe/Paris:20260506T235959
DTSTAMP:20260422T114652
CREATED:20250917T124122Z
LAST-MODIFIED:20250917T124122Z
UID:10000300-1778025600-1778111999@wapigoo.com
SUMMARY:Les curateurs d'évent
DESCRIPTION:Pas grand chose à dire .
URL:https://wapigoo.com/event/les-curateurs-devent/2026-05-06/
ATTACH;FMTTYPE=image/png:https://wapigoo.com/wp-content/uploads/2025/09/Joomeo-nrpictures-lbv-Space-Civil-4.png
LOCATION:
END:VEVENT
BEGIN:VEVENT
DTSTART;TZID=Europe/Paris:20260513T000000
DTEND;TZID=Europe/Paris:20260513T235959
DTSTAMP:20260422T114652
CREATED:20250917T124122Z
LAST-MODIFIED:20250917T124122Z
UID:10000301-1778630400-1778716799@wapigoo.com
SUMMARY:Les curateurs d'évent
DESCRIPTION:Pas grand chose à dire .
URL:https://wapigoo.com/event/les-curateurs-devent/2026-05-13/
ATTACH;FMTTYPE=image/png:https://wapigoo.com/wp-content/uploads/2025/09/Joomeo-nrpictures-lbv-Space-Civil-4.png
LOCATION:
END:VEVENT
BEGIN:VEVENT
DTSTART;TZID=Europe/Paris:20260520T000000
DTEND;TZID=Europe/Paris:20260520T235959
DTSTAMP:20260422T114653
CREATED:20250917T124122Z
LAST-MODIFIED:20250917T124122Z
UID:10000302-1779235200-1779321599@wapigoo.com
SUMMARY:Les curateurs d'évent
DESCRIPTION:Pas grand chose à dire .
URL:https://wapigoo.com/event/les-curateurs-devent/2026-05-20/
ATTACH;FMTTYPE=image/png:https://wapigoo.com/wp-content/uploads/2025/09/Joomeo-nrpictures-lbv-Space-Civil-4.png
LOCATION:
END:VEVENT
BEGIN:VEVENT
DTSTART;TZID=Europe/Paris:20260527T000000
DTEND;TZID=Europe/Paris:20260527T235959
DTSTAMP:20260422T114653
CREATED:20250917T124122Z
LAST-MODIFIED:20250917T124122Z
UID:10000303-1779840000-1779926399@wapigoo.com
SUMMARY:Les curateurs d'évent
DESCRIPTION:Pas grand chose à dire .
URL:https://wapigoo.com/event/les-curateurs-devent/2026-05-27/
ATTACH;FMTTYPE=image/png:https://wapigoo.com/wp-content/uploads/2025/09/Joomeo-nrpictures-lbv-Space-Civil-4.png
LOCATION:
END:VEVENT
BEGIN:VEVENT
DTSTART;TZID=Europe/Paris:20260603T000000
DTEND;TZID=Europe/Paris:20260603T235959
DTSTAMP:20260422T114653
CREATED:20250917T124122Z
LAST-MODIFIED:20250917T124122Z
UID:10000304-1780444800-1780531199@wapigoo.com
SUMMARY:Les curateurs d'évent
DESCRIPTION:Pas grand chose à dire .
URL:https://wapigoo.com/event/les-curateurs-devent/2026-06-03/
ATTACH;FMTTYPE=image/png:https://wapigoo.com/wp-content/uploads/2025/09/Joomeo-nrpictures-lbv-Space-Civil-4.png
LOCATION:
END:VEVENT
BEGIN:VEVENT
DTSTART;TZID=Europe/Paris:20260610T000000
DTEND;TZID=Europe/Paris:20260610T235959
DTSTAMP:20260422T114653
CREATED:20250917T124122Z
LAST-MODIFIED:20250917T124122Z
UID:10000305-1781049600-1781135999@wapigoo.com
SUMMARY:Les curateurs d'évent
DESCRIPTION:Pas grand chose à dire .
URL:https://wapigoo.com/event/les-curateurs-devent/2026-06-10/
ATTACH;FMTTYPE=image/png:https://wapigoo.com/wp-content/uploads/2025/09/Joomeo-nrpictures-lbv-Space-Civil-4.png
LOCATION:
END:VEVENT
BEGIN:VEVENT
DTSTART;TZID=Europe/Paris:20260617T000000
DTEND;TZID=Europe/Paris:20260617T235959
DTSTAMP:20260422T114653
CREATED:20250917T124122Z
LAST-MODIFIED:20250917T124122Z
UID:10000306-1781654400-1781740799@wapigoo.com
SUMMARY:Les curateurs d'évent
DESCRIPTION:Pas grand chose à dire .
URL:https://wapigoo.com/event/les-curateurs-devent/2026-06-17/
ATTACH;FMTTYPE=image/png:https://wapigoo.com/wp-content/uploads/2025/09/Joomeo-nrpictures-lbv-Space-Civil-4.png
LOCATION:
END:VEVENT
BEGIN:VEVENT
DTSTART;TZID=Europe/Paris:20260624T000000
DTEND;TZID=Europe/Paris:20260624T235959
DTSTAMP:20260422T114653
CREATED:20250917T124122Z
LAST-MODIFIED:20250917T124122Z
UID:10000307-1782259200-1782345599@wapigoo.com
SUMMARY:Les curateurs d'évent
DESCRIPTION:Pas grand chose à dire .
URL:https://wapigoo.com/event/les-curateurs-devent/2026-06-24/
ATTACH;FMTTYPE=image/png:https://wapigoo.com/wp-content/uploads/2025/09/Joomeo-nrpictures-lbv-Space-Civil-4.png
LOCATION:
END:VEVENT
BEGIN:VEVENT
DTSTART;TZID=Europe/Paris:20260701T000000
DTEND;TZID=Europe/Paris:20260701T235959
DTSTAMP:20260422T114653
CREATED:20250917T124122Z
LAST-MODIFIED:20250917T124122Z
UID:10000308-1782864000-1782950399@wapigoo.com
SUMMARY:Les curateurs d'évent
DESCRIPTION:Pas grand chose à dire .
URL:https://wapigoo.com/event/les-curateurs-devent/2026-07-01/
ATTACH;FMTTYPE=image/png:https://wapigoo.com/wp-content/uploads/2025/09/Joomeo-nrpictures-lbv-Space-Civil-4.png
LOCATION:
END:VEVENT
BEGIN:VEVENT
DTSTART;TZID=Europe/Paris:20260708T000000
DTEND;TZID=Europe/Paris:20260708T235959
DTSTAMP:20260422T114653
CREATED:20250917T124122Z
LAST-MODIFIED:20250917T124122Z
UID:10000309-1783468800-1783555199@wapigoo.com
SUMMARY:Les curateurs d'évent
DESCRIPTION:Pas grand chose à dire .
URL:https://wapigoo.com/event/les-curateurs-devent/2026-07-08/
ATTACH;FMTTYPE=image/png:https://wapigoo.com/wp-content/uploads/2025/09/Joomeo-nrpictures-lbv-Space-Civil-4.png
LOCATION:
END:VEVENT
BEGIN:VEVENT
DTSTART;TZID=Europe/Paris:20260715T000000
DTEND;TZID=Europe/Paris:20260715T235959
DTSTAMP:20260422T114653
CREATED:20250917T124122Z
LAST-MODIFIED:20250917T124122Z
UID:10000310-1784073600-1784159999@wapigoo.com
SUMMARY:Les curateurs d'évent
DESCRIPTION:Pas grand chose à dire .
URL:https://wapigoo.com/event/les-curateurs-devent/2026-07-15/
ATTACH;FMTTYPE=image/png:https://wapigoo.com/wp-content/uploads/2025/09/Joomeo-nrpictures-lbv-Space-Civil-4.png
LOCATION:
END:VEVENT
BEGIN:VEVENT
DTSTART;TZID=Europe/Paris:20260722T000000
DTEND;TZID=Europe/Paris:20260722T235959
DTSTAMP:20260422T114653
CREATED:20250917T124122Z
LAST-MODIFIED:20250917T124122Z
UID:10000311-1784678400-1784764799@wapigoo.com
SUMMARY:Les curateurs d'évent
DESCRIPTION:Pas grand chose à dire .
URL:https://wapigoo.com/event/les-curateurs-devent/2026-07-22/
ATTACH;FMTTYPE=image/png:https://wapigoo.com/wp-content/uploads/2025/09/Joomeo-nrpictures-lbv-Space-Civil-4.png
LOCATION:
END:VEVENT
BEGIN:VEVENT
DTSTART;TZID=Europe/Paris:20260729T000000
DTEND;TZID=Europe/Paris:20260729T235959
DTSTAMP:20260422T114653
CREATED:20250917T124122Z
LAST-MODIFIED:20250917T124122Z
UID:10000312-1785283200-1785369599@wapigoo.com
SUMMARY:Les curateurs d'évent
DESCRIPTION:Pas grand chose à dire .
URL:https://wapigoo.com/event/les-curateurs-devent/2026-07-29/
ATTACH;FMTTYPE=image/png:https://wapigoo.com/wp-content/uploads/2025/09/Joomeo-nrpictures-lbv-Space-Civil-4.png
LOCATION:
END:VEVENT
BEGIN:VEVENT
DTSTART;TZID=Europe/Paris:20260805T000000
DTEND;TZID=Europe/Paris:20260805T235959
DTSTAMP:20260422T114653
CREATED:20250917T124122Z
LAST-MODIFIED:20250917T124122Z
UID:10000313-1785888000-1785974399@wapigoo.com
SUMMARY:Les curateurs d'évent
DESCRIPTION:Pas grand chose à dire .
URL:https://wapigoo.com/event/les-curateurs-devent/2026-08-05/
ATTACH;FMTTYPE=image/png:https://wapigoo.com/wp-content/uploads/2025/09/Joomeo-nrpictures-lbv-Space-Civil-4.png
LOCATION:
END:VEVENT
BEGIN:VEVENT
DTSTART;TZID=Europe/Paris:20260812T000000
DTEND;TZID=Europe/Paris:20260812T235959
DTSTAMP:20260422T114653
CREATED:20250917T124122Z
LAST-MODIFIED:20250917T124122Z
UID:10000314-1786492800-1786579199@wapigoo.com
SUMMARY:Les curateurs d'évent
DESCRIPTION:Pas grand chose à dire .
URL:https://wapigoo.com/event/les-curateurs-devent/2026-08-12/
ATTACH;FMTTYPE=image/png:https://wapigoo.com/wp-content/uploads/2025/09/Joomeo-nrpictures-lbv-Space-Civil-4.png
LOCATION:
END:VEVENT
BEGIN:VEVENT
DTSTART;TZID=Europe/Paris:20260819T000000
DTEND;TZID=Europe/Paris:20260819T235959
DTSTAMP:20260422T114653
CREATED:20250917T124122Z
LAST-MODIFIED:20250917T124122Z
UID:10000315-1787097600-1787183999@wapigoo.com
SUMMARY:Les curateurs d'évent
DESCRIPTION:Pas grand chose à dire .
URL:https://wapigoo.com/event/les-curateurs-devent/2026-08-19/
ATTACH;FMTTYPE=image/png:https://wapigoo.com/wp-content/uploads/2025/09/Joomeo-nrpictures-lbv-Space-Civil-4.png
LOCATION:
END:VEVENT
BEGIN:VEVENT
DTSTART;TZID=Europe/Paris:20260826T000000
DTEND;TZID=Europe/Paris:20260826T235959
DTSTAMP:20260422T114653
CREATED:20250917T124122Z
LAST-MODIFIED:20250917T124122Z
UID:10000316-1787702400-1787788799@wapigoo.com
SUMMARY:Les curateurs d'évent
DESCRIPTION:Pas grand chose à dire .
URL:https://wapigoo.com/event/les-curateurs-devent/2026-08-26/
ATTACH;FMTTYPE=image/png:https://wapigoo.com/wp-content/uploads/2025/09/Joomeo-nrpictures-lbv-Space-Civil-4.png
LOCATION:
END:VEVENT
BEGIN:VEVENT
DTSTART;TZID=Europe/Paris:20260902T000000
DTEND;TZID=Europe/Paris:20260902T235959
DTSTAMP:20260422T114653
CREATED:20250917T124122Z
LAST-MODIFIED:20250917T124122Z
UID:10000317-1788307200-1788393599@wapigoo.com
SUMMARY:Les curateurs d'évent
DESCRIPTION:Pas grand chose à dire .
URL:https://wapigoo.com/event/les-curateurs-devent/2026-09-02/
ATTACH;FMTTYPE=image/png:https://wapigoo.com/wp-content/uploads/2025/09/Joomeo-nrpictures-lbv-Space-Civil-4.png
LOCATION:
END:VEVENT
BEGIN:VEVENT
DTSTART;TZID=Europe/Paris:20260909T000000
DTEND;TZID=Europe/Paris:20260909T235959
DTSTAMP:20260422T114653
CREATED:20250917T124122Z
LAST-MODIFIED:20250917T124122Z
UID:10000318-1788912000-1788998399@wapigoo.com
SUMMARY:Les curateurs d'évent
DESCRIPTION:Pas grand chose à dire .
URL:https://wapigoo.com/event/les-curateurs-devent/2026-09-09/
ATTACH;FMTTYPE=image/png:https://wapigoo.com/wp-content/uploads/2025/09/Joomeo-nrpictures-lbv-Space-Civil-4.png
LOCATION:
END:VEVENT
BEGIN:VEVENT
DTSTART;TZID=Europe/Paris:20260916T000000
DTEND;TZID=Europe/Paris:20260916T235959
DTSTAMP:20260422T114653
CREATED:20250917T124122Z
LAST-MODIFIED:20250917T124122Z
UID:10000319-1789516800-1789603199@wapigoo.com
SUMMARY:Les curateurs d'évent
DESCRIPTION:Pas grand chose à dire .
URL:https://wapigoo.com/event/les-curateurs-devent/2026-09-16/
ATTACH;FMTTYPE=image/png:https://wapigoo.com/wp-content/uploads/2025/09/Joomeo-nrpictures-lbv-Space-Civil-4.png
LOCATION:
END:VEVENT
BEGIN:VEVENT
DTSTART;TZID=Europe/Paris:20260923T000000
DTEND;TZID=Europe/Paris:20260923T235959
DTSTAMP:20260422T114653
CREATED:20250917T124122Z
LAST-MODIFIED:20250917T124122Z
UID:10000320-1790121600-1790207999@wapigoo.com
SUMMARY:Les curateurs d'évent
DESCRIPTION:Pas grand chose à dire .
URL:https://wapigoo.com/event/les-curateurs-devent/2026-09-23/
ATTACH;FMTTYPE=image/png:https://wapigoo.com/wp-content/uploads/2025/09/Joomeo-nrpictures-lbv-Space-Civil-4.png
LOCATION:
END:VEVENT
BEGIN:VEVENT
DTSTART;TZID=Europe/Paris:20260930T000000
DTEND;TZID=Europe/Paris:20260930T235959
DTSTAMP:20260422T114653
CREATED:20250917T124122Z
LAST-MODIFIED:20250917T124122Z
UID:10000321-1790726400-1790812799@wapigoo.com
SUMMARY:Les curateurs d'évent
DESCRIPTION:Pas grand chose à dire .
URL:https://wapigoo.com/event/les-curateurs-devent/2026-09-30/
ATTACH;FMTTYPE=image/png:https://wapigoo.com/wp-content/uploads/2025/09/Joomeo-nrpictures-lbv-Space-Civil-4.png
LOCATION:
END:VEVENT
BEGIN:VEVENT
DTSTART;TZID=Europe/Paris:20261007T000000
DTEND;TZID=Europe/Paris:20261007T235959
DTSTAMP:20260422T114653
CREATED:20250917T124122Z
LAST-MODIFIED:20250917T124122Z
UID:10000322-1791331200-1791417599@wapigoo.com
SUMMARY:Les curateurs d'évent
DESCRIPTION:Pas grand chose à dire .
URL:https://wapigoo.com/event/les-curateurs-devent/2026-10-07/
ATTACH;FMTTYPE=image/png:https://wapigoo.com/wp-content/uploads/2025/09/Joomeo-nrpictures-lbv-Space-Civil-4.png
LOCATION:
END:VEVENT
BEGIN:VEVENT
DTSTART;TZID=Europe/Paris:20261014T000000
DTEND;TZID=Europe/Paris:20261014T235959
DTSTAMP:20260422T114653
CREATED:20250917T124122Z
LAST-MODIFIED:20250917T124122Z
UID:10000323-1791936000-1792022399@wapigoo.com
SUMMARY:Les curateurs d'évent
DESCRIPTION:Pas grand chose à dire .
URL:https://wapigoo.com/event/les-curateurs-devent/2026-10-14/
ATTACH;FMTTYPE=image/png:https://wapigoo.com/wp-content/uploads/2025/09/Joomeo-nrpictures-lbv-Space-Civil-4.png
LOCATION:
END:VEVENT
BEGIN:VEVENT
DTSTART;TZID=Europe/Paris:20261021T000000
DTEND;TZID=Europe/Paris:20261021T235959
DTSTAMP:20260422T114653
CREATED:20250917T124122Z
LAST-MODIFIED:20250917T124122Z
UID:10000324-1792540800-1792627199@wapigoo.com
SUMMARY:Les curateurs d'évent
DESCRIPTION:Pas grand chose à dire .
URL:https://wapigoo.com/event/les-curateurs-devent/2026-10-21/
ATTACH;FMTTYPE=image/png:https://wapigoo.com/wp-content/uploads/2025/09/Joomeo-nrpictures-lbv-Space-Civil-4.png
LOCATION:
END:VEVENT
BEGIN:VEVENT
DTSTART;TZID=Europe/Paris:20261028T000000
DTEND;TZID=Europe/Paris:20261028T235959
DTSTAMP:20260422T114653
CREATED:20250917T124122Z
LAST-MODIFIED:20250917T124122Z
UID:10000325-1793145600-1793231999@wapigoo.com
SUMMARY:Les curateurs d'évent
DESCRIPTION:Pas grand chose à dire .
URL:https://wapigoo.com/event/les-curateurs-devent/2026-10-28/
ATTACH;FMTTYPE=image/png:https://wapigoo.com/wp-content/uploads/2025/09/Joomeo-nrpictures-lbv-Space-Civil-4.png
LOCATION:
END:VEVENT
BEGIN:VEVENT
DTSTART;TZID=Europe/Paris:20261104T000000
DTEND;TZID=Europe/Paris:20261104T235959
DTSTAMP:20260422T114653
CREATED:20250917T124122Z
LAST-MODIFIED:20250917T124122Z
UID:10000326-1793750400-1793836799@wapigoo.com
SUMMARY:Les curateurs d'évent
DESCRIPTION:Pas grand chose à dire .
URL:https://wapigoo.com/event/les-curateurs-devent/2026-11-04/
ATTACH;FMTTYPE=image/png:https://wapigoo.com/wp-content/uploads/2025/09/Joomeo-nrpictures-lbv-Space-Civil-4.png
LOCATION:
END:VEVENT
BEGIN:VEVENT
DTSTART;TZID=Europe/Paris:20261111T000000
DTEND;TZID=Europe/Paris:20261111T235959
DTSTAMP:20260422T114653
CREATED:20250917T124122Z
LAST-MODIFIED:20250917T124122Z
UID:10000327-1794355200-1794441599@wapigoo.com
SUMMARY:Les curateurs d'évent
DESCRIPTION:Pas grand chose à dire .
URL:https://wapigoo.com/event/les-curateurs-devent/2026-11-11/
ATTACH;FMTTYPE=image/png:https://wapigoo.com/wp-content/uploads/2025/09/Joomeo-nrpictures-lbv-Space-Civil-4.png
LOCATION:
END:VEVENT
END:VCALENDAR